BEGIN:VCALENDAR
VERSION:2.0
PRODID:-//MIRA - ECPv6.6.4.2//NONSGML v1.0//EN
CALSCALE:GREGORIAN
METHOD:PUBLISH
X-ORIGINAL-URL:https://mira-mitmachrad.de
X-WR-CALDESC:Veranstaltungen für MIRA
REFRESH-INTERVAL;VALUE=DURATION:PT1H
X-Robots-Tag:noindex
X-PUBLISHED-TTL:PT1H
BEGIN:VTIMEZONE
TZID:Europe/Berlin
BEGIN:DAYLIGHT
TZOFFSETFROM:+0100
TZOFFSETTO:+0200
TZNAME:CEST
DTSTART:20240331T010000
END:DAYLIGHT
BEGIN:STANDARD
TZOFFSETFROM:+0200
TZOFFSETTO:+0100
TZNAME:CET
DTSTART:20241027T010000
END:STANDARD
BEGIN:DAYLIGHT
TZOFFSETFROM:+0100
TZOFFSETTO:+0200
TZNAME:CEST
DTSTART:20250330T010000
END:DAYLIGHT
BEGIN:STANDARD
TZOFFSETFROM:+0200
TZOFFSETTO:+0100
TZNAME:CET
DTSTART:20251026T010000
END:STANDARD
BEGIN:DAYLIGHT
TZOFFSETFROM:+0100
TZOFFSETTO:+0200
TZNAME:CEST
DTSTART:20260329T010000
END:DAYLIGHT
BEGIN:STANDARD
TZOFFSETFROM:+0200
TZOFFSETTO:+0100
TZNAME:CET
DTSTART:20261025T010000
END:STANDARD
END:VTIMEZONE
BEGIN:VEVENT
DTSTART;TZID=Europe/Berlin:20260204T150000
DTEND;TZID=Europe/Berlin:20260204T173000
DTSTAMP:20260420T115905
CREATED:20260109T093833Z
LAST-MODIFIED:20260109T093951Z
UID:931-1770217200-1770226200@mira-mitmachrad.de
SUMMARY:Was können wir von dir lernen - Gespräche über Bildung
DESCRIPTION:MIRA – Dein Mitmach-Rad! MIRA macht Bildung mobil. Wir möchten mit euch ins Gespräch kommen. Was können wir von euch lernen? Wo möchtet ihr euch weiterentwickeln? Die Veranstaltung findet im Café Schwan statt.
URL:https://mira-mitmachrad.de/termin/was-koennen-wir-von-dir-lernen-gespraeche-ueber-bildung/
LOCATION:Café Schwan\, Schwanenring 5\, Moers\, 47441
ORGANIZER;CN="Bildungswerk FRIEDA":MAILTO:frieda@kirche-moers.de
END:VEVENT
BEGIN:VEVENT
DTSTART;TZID=Europe/Berlin:20250927T120000
DTEND;TZID=Europe/Berlin:20250927T180000
DTSTAMP:20260420T115905
CREATED:20250911T114923Z
LAST-MODIFIED:20250911T121005Z
UID:915-1758974400-1758996000@mira-mitmachrad.de
SUMMARY:MiRa kommt zum Ehrenamtsfestival nach Meerbeck
DESCRIPTION:Am 27. September rollt MIRA zum 4. Ehrenamtsfestival auf den Barbaraplatz in Moers-Meerbeck. \nMit im Gepäck: kreative Mitmachaktionen\, Informationen rund um Bildung und Begegnung\, sowie jede Menge Raum für Austausch. \nKommt vorbei\, entdeckt die Vielfalt des Ehrenamts in Meerbeck und gestaltet mit!
URL:https://mira-mitmachrad.de/termin/mira-kommt-zum-ehrenamtsfestival-nach-meerbeck/
LOCATION:Barbaraplatz in Moers-Meerbeck
END:VEVENT
BEGIN:VEVENT
DTSTART;TZID=Europe/Berlin:20250921T110000
DTEND;TZID=Europe/Berlin:20250921T170000
DTSTAMP:20260420T115905
CREATED:20250911T114154Z
LAST-MODIFIED:20250911T114154Z
UID:908-1758452400-1758474000@mira-mitmachrad.de
SUMMARY:MiRa beim Moerser Umwelttag
DESCRIPTION:Beim 6. Moerser Umwelttag könnt ihr rund um das Moerser Schloss im Freizeitpark mit verschiedene Akteure zum Thema Umweltschutz\, sowie Natur- und Artenschutz ins Gespräch kommen. \nUnd MiRa ist natürlich mittendrin dabei! \nWir freuen uns auf gute Gespräche mit euch und inspirierende Impulse.
URL:https://mira-mitmachrad.de/termin/mira-beim-moerser-umwelttag/
LOCATION:Schlossplatz\, Kastell 9\, 47441 Moers
END:VEVENT
BEGIN:VEVENT
DTSTART;TZID=Europe/Berlin:20250831T110000
DTEND;TZID=Europe/Berlin:20250831T170000
DTSTAMP:20260420T115905
CREATED:20250527T091019Z
LAST-MODIFIED:20250527T091019Z
UID:877-1756638000-1756659600@mira-mitmachrad.de
SUMMARY:MIRA - Dein Mitmachrad: Was können wir von dir lernen - Gespräche über Bildung
DESCRIPTION:MIRA – Dein Mitmach-Rad! MIRA macht Bildung mobil. Wir möchten beim Friemersheimer Kultursommer mit euch ins Gespräch kommen. Was können wir von euch lernen? Wo möchtet ihr euch weiterentwickeln? Besucht uns am Fahrrad!
URL:https://mira-mitmachrad.de/termin/mira-dein-mitmachrad-was-koennen-wir-von-dir-lernen-gespraeche-ueber-bildung/
LOCATION:Ev. Dorfkirche\, Friemersheimer Str. 10\, 47229 Duisburg
END:VEVENT
BEGIN:VEVENT
DTSTART;TZID=Europe/Berlin:20250728T100000
DTEND;TZID=Europe/Berlin:20250728T150000
DTSTAMP:20260420T115905
CREATED:20250613T112223Z
LAST-MODIFIED:20250613T112223Z
UID:893-1753696800-1753714800@mira-mitmachrad.de
SUMMARY:Ab in den Park – mit Mira!
DESCRIPTION:🚲 Das Mitmachrad bringt Gespräche und Begegnung direkt zu euch ins Grüne. \n👨‍👩‍👧‍👦 Hier trifft sich MiRa  mit Familien zum spontanen Austausch bei einem Kaffee. \n🌳 Schaut nach\, wo MiRa heute unterwegs ist und kommt einfach vorbei! \nWo ist MIRA?
URL:https://mira-mitmachrad.de/termin/ab-in-den-park-mit-mira-2/
LOCATION:Moerser Stadtpark\, Am Schlosspark\, Moers\, 47441
ORGANIZER;CN="Bildungswerk FRIEDA":MAILTO:frieda@kirche-moers.de
END:VEVENT
BEGIN:VEVENT
DTSTART;TZID=Europe/Berlin:20250710T100000
DTEND;TZID=Europe/Berlin:20250710T150000
DTSTAMP:20260420T115905
CREATED:20250613T111945Z
LAST-MODIFIED:20250613T111945Z
UID:883-1752141600-1752159600@mira-mitmachrad.de
SUMMARY:Ab in den Park – mit Mira!
DESCRIPTION:🚲 Das Mitmachrad bringt Gespräche und Begegnung direkt zu euch ins Grüne. \n👨‍👩‍👧‍👦 Hier trifft sich MiRa  mit Familien zum spontanen Austausch bei einem Kaffee. \n🌳 Schaut nach\, wo MiRa heute unterwegs ist und kommt einfach vorbei! \nWo ist MIRA?
URL:https://mira-mitmachrad.de/termin/ab-in-den-park-mit-mira/
LOCATION:Moerser Stadtpark\, Am Schlosspark\, Moers\, 47441
ORGANIZER;CN="Bildungswerk FRIEDA":MAILTO:frieda@kirche-moers.de
END:VEVENT
BEGIN:VEVENT
DTSTART;TZID=Europe/Berlin:20250524T110000
DTEND;TZID=Europe/Berlin:20250524T150000
DTSTAMP:20260420T115905
CREATED:20250520T125648Z
LAST-MODIFIED:20250520T130314Z
UID:843-1748084400-1748098800@mira-mitmachrad.de
SUMMARY:MiRa besucht "Die Wühlmäuse"
DESCRIPTION:Unser grünes Lastenrad MIRA ist wieder unterwegs und macht Halt beim Sommerfest des Familienzentrums „Die Wühlmäuse“ der Neukirchener Erziehungsvereins in Duisburg-Rheinhausen! Mit im Gepäck: eine kreative Mitmachaktion und Raum für Gespräche. Direkt vor Ort laden wir Familien ein\, miteinander ins Gespräch zu kommen\, sich zu informieren und gemeinsam aktiv zu werden – ganz unkompliziert und auf Augenhöhe. \nKommt vorbei\, macht mit und erlebt\, wieviel Spaß mobile Familienbildung macht!
URL:https://mira-mitmachrad.de/termin/mira-besucht-die-wuehlmaeuse/
LOCATION:Friedensstraße 1\, 47228 Duisburg
END:VEVENT
BEGIN:VEVENT
DTSTART;TZID=Europe/Berlin:20241113T140000
DTEND;TZID=Europe/Berlin:20241113T150000
DTSTAMP:20260420T115905
CREATED:20241031T134627Z
LAST-MODIFIED:20241031T134627Z
UID:814-1731506400-1731510000@mira-mitmachrad.de
SUMMARY:´MIRA im Repair-Cafe \, Begegnungsstätte Schwanenring Moers Hülsdonk
DESCRIPTION:
URL:https://mira-mitmachrad.de/termin/mira-im-repair-cafe-begegnungsstaette-schwanenring-moers-huelsdonk/
END:VEVENT
BEGIN:VEVENT
DTSTART;TZID=Europe/Berlin:20240921T100000
DTEND;TZID=Europe/Berlin:20240921T170000
DTSTAMP:20260420T115905
CREATED:20240826T085853Z
LAST-MODIFIED:20240826T085853Z
UID:598-1726912800-1726938000@mira-mitmachrad.de
SUMMARY:Ehrenamtstag im Rahmen der Eröffnung Sportanlage Rheinpreußen
DESCRIPTION:
URL:https://mira-mitmachrad.de/termin/ehrenamtstag-im-rahmen-der-eroeffnung-sportanlage-rheinpreussen/
LOCATION:Sportanlage Rheinpreußen\, Römerstraße 663\, Moers\, 47443
END:VEVENT
BEGIN:VEVENT
DTSTART;TZID=Europe/Berlin:20240914T100000
DTEND;TZID=Europe/Berlin:20240914T140000
DTSTAMP:20260420T115905
CREATED:20240826T085750Z
LAST-MODIFIED:20240830T123040Z
UID:590-1726308000-1726322400@mira-mitmachrad.de
SUMMARY:Tag der Diakonie - Markt der Möglichkeiten
DESCRIPTION:
URL:https://mira-mitmachrad.de/termin/inklusive-disko-2/
LOCATION:Stadtkirche Moers\, Klosterstraße 5\, Moers\, 47441
END:VEVENT
BEGIN:VEVENT
DTSTART;TZID=Europe/Berlin:20240913T170000
DTEND;TZID=Europe/Berlin:20240913T190000
DTSTAMP:20260420T115905
CREATED:20240826T085643Z
LAST-MODIFIED:20240826T085657Z
UID:592-1726246800-1726254000@mira-mitmachrad.de
SUMMARY:Inklusive Disko
DESCRIPTION:
URL:https://mira-mitmachrad.de/termin/inklusive-disko/
LOCATION:Haus der Generationen\, Grote Geert 50\, Rheinberg\, 47495\, Deutschland
END:VEVENT
END:VCALENDAR